BEGIN:VCALENDAR
VERSION:2.0
PRODID:Commerce, CA Calendar Creator
METHOD:PUBLISH
BEGIN:VEVENT
DTSTAMP:20260401T120038
DTSTART:20260711T143000
DTEND:20260711T234500
SUMMARY:Community Dodgers Game
DESCRIPTION:<p><a href="https://commerce-ca-gov.prod-as.govaccess.org/home/showpublisheddocument/5271/639106411559000000" target="_blank" rel="noopener">Dodger Game 2026</a></p><p>Please click on flyer for details.&nbsp;</p>
X-ALT-DESC;FMTTYPE=text/html:<p><a href="https://commerce-ca-gov.prod-as.govaccess.org/home/showpublisheddocument/5271/639106411559000000" target="_blank" rel="noopener">Dodger Game 2026</a></p><p>Please click on flyer for details.&nbsp;</p>
LOCATION:Senior Citizens Center\, 2555 Commerce Way Commerce\, California 90040
CLASS:PUBLIC
END:VEVENT
END:VCALENDAR
